BEGIN:VCALENDAR
VERSION:2.0
PRODID:-//wp-events-plugin.com//7.2.3.1//EN
TZID:Europe/Berlin
X-WR-TIMEZONE:Europe/Berlin
BEGIN:VEVENT
UID:7@eisenbahnfreunde-kraichgau.de
DTSTART;TZID=Europe/Berlin:20261213T120000
DTEND;TZID=Europe/Berlin:20261213T180000
DTSTAMP:20251130T171835Z
URL:https://eisenbahnfreunde-kraichgau.de/events/tag-der-offenen-tuer-adve
 nt-26/
SUMMARY:Tag der offenen Tür
DESCRIPTION:Tag der offenen Tür – Wir lassen die Züge rollen!\n&nbsp\;\
 nHerzlich willkommen zu unserem jährlichen Modellbahn-Fahrtag im Advent!\
 n&nbsp\;\nWir öffnen unsere Türen für alle Eisenbahn-Enthusiasten\, Fam
 ilien und Interessierte. Erleben Sie unsere Vereinsanlage in Aktion in uns
 erem Vereinsheim.\n&nbsp\;\nWas Sie erwartet:\n&nbsp\;\n\n 	Anlagen in Bet
 rieb: Bestaunen Sie unsere weitläufigen Modellbahnanlagen in verschiedene
 n Spurweiten H0 im vollen Fahrbetrieb. Die Züge fahren den ganzen Tag!\n 
 	Spiel- und Malecke für Kinder: Für unsere kleinen Gäste haben wir eine
  gemütliche Ecke eingerichtet\, in der sie sich mit einer Holzeisenbahn a
 ustoben oder kreativ werden können.\n 	Fachsimpeln &amp\; Fragen: Unsere 
 Mitglieder stehen Ihnen gerne Rede und Antwort. Stellen Sie all Ihre Frage
 n rund um das Hobby Modellbahn.\n 	Für das leibliche Wohl: Für eine Stä
 rkung ist bestens gesorgt! Genießen Sie neben Kaffee\, Kuchen und kalten 
 Getränken auch leckere warme Speisen in gemütlicher Atmosphäre.\n\n&nbs
 p\;\nDie Details zur Veranstaltung:\n&nbsp\;\n\n\n\n\nDatum:\nSonntag\, 13
 . Dezember 2026\n\n\nUhrzeit:\nÖffnungszeiten\, 12:00 Uhr bis 18:00 Uhr\n
 \n\nOrt:\nVereinsheim Lokschuppen\nJahnstraße 2a\n74889 Sinsheim\n\n\n\nE
 intritt:\n2\,50 € (Kinder bis 16 Jahre frei)\n\n\n\n\nWir freuen uns auf
  Ihren Besuch bei uns im Verein und einen tollen Fahrtag mit Ihnen!
LOCATION:Vereinsheim Lokschuppen\, Jahnstr 2a\, Sinsheim\, 74889\, Deutschl
 and
X-APPLE-STRUCTURED-LOCATION;VALUE=URI;X-ADDRESS=Jahnstr 2a\, Sinsheim\, 748
 89\, Deutschland;X-APPLE-RADIUS=100;X-TITLE=Vereinsheim Lokschuppen:geo:0,
 0
END:VEVENT
BEGIN:VTIMEZONE
TZID:Europe/Berlin
X-LIC-LOCATION:Europe/Berlin
BEGIN:STANDARD
DTSTART:20261025T020000
TZOFFSETFROM:+0200
TZOFFSETTO:+0100
TZNAME:CET
END:STANDARD
END:VTIMEZONE
END:VCALENDAR